0.0000458533
0.0000000628
0.0000001746
-0.0000380901
18.4724199334
-33.9796208650
