0.0000459017
-0.0000001378
-0.0000001619
-0.0000381671
18.4425587424
-33.9542355777
