4.232807
0.000003
0.000359
-4.233157
-51525.282176
-3758705.023998
