0.0002248639
-0.0000001692
-0.0000004061
-0.0001903649
17.6573456418
-31.9104159284
