0.0000452394
0.0000003109
0.0000003744
-0.0000381650
17.6993523076
-32.6562550498
