0.0000448750
-0.0000001412
-0.0000001619
-0.0000381817
18.4491158729
-31.9461031958
