0.0000450144
-0.0000000099
0.0000000243
-0.0000380761
18.7276703519
-31.9800053513
