0.0000449993
-0.0000001330
-0.0000001569
-0.0000381759
18.4533914430
-32.1940950233
