0.0000453619
-0.0000000415
0.0000000068
-0.0000380904
18.2159534958
-32.7277355494
