4.233102
0.000104
0.000174
-4.233275
-52677.349894
-3619093.493826
