0.0000452496
-0.0000000413
-0.0000000585
-0.0000381734
18.6995335356
-32.6969641381
