0.0000448718
0.0000000460
0.0000000600
-0.0000381821
18.9433273435
-31.9557439943
