0.0000448712
0.0000001371
0.0000001543
-0.0000381729
19.1886949321
-31.9558887882
