4.233533
0.000079
-0.000188
-4.233418
18611.382958
-3533708.196855
