0.0000449995
0.0000001287
0.0000001566
-0.0000381701
19.2031740587
-32.2037674079
