0.000044871730128
0.000000308543580
0.000000370412705
-0.000038170800457
19.698025679164076
-31.970828703874894
