0.0000450840
0.0000001827
0.0000002206
-0.0000381097
19.7162140891
-32.2275348054
