0.0000451283
0.0000000486
0.0000000556
-0.0000381733
18.9498394008
-32.4579454840
