0.0000450264
0.0000000396
0.0000000461
-0.0000381836
19.2246041381
-32.4832167702
