0.0000452509
0.0000000195
0.0000000367
-0.0000381838
19.2287952665
-32.7336550091
