0.0000451089
0.0000000235
0.0000000747
-0.0000381051
19.4783636048
-32.4847178450
