0.0000451098
-0.0000000619
-0.0000000828
-0.0000380905
19.4653105961
-32.4772504287
