0.0000451574
0.0000000030
0.0000000268
-0.0000381634
19.7297940943
-32.4842247441
