0.0000451587
-0.0000000065
-0.0000000412
-0.0000380675
19.7188888207
-32.4813812603
