0.0000454510
0.0000000474
0.0000000781
-0.0000380964
19.4640519343
-32.7318169695
