0.0000452970
0.0000000174
0.0000000211
-0.0000381226
19.7251793865
-32.7304602269
